BEGIN:VCALENDAR
PRODID:-//eluceo/ical//2.0/EN
VERSION:2.0
CALSCALE:GREGORIAN
BEGIN:VEVENT
UID:a8e09050bd2ee3daa0bde7fe93d4b95f
DTSTAMP:20260422T020401Z
SUMMARY:Workshop Pflanzenvermehrung 
DESCRIPTION:Als Vorbereitung für die Pflanzentauschbörse im Mai lernen wi
 r wie\nPflanzen vermehrt werden: Aussaat\, Stecklinge schneiden oder Teilu
 ng -\nTipps für die Praxis.\n
DTSTART:20220312T130000Z
DTEND:20220312T150000Z
LOCATION:Wesemlinstrasse 42\, 6006 Luzern
GEO:47.061598;8.313342
X-APPLE-STRUCTURED-LOCATION;VALUE=URI;X-ADDRESS=Wesemlinstrasse 42\, 6006 L
 uzern;X-APPLE-RADIUS=49;X-TITLE=:geo:47.061598,8.313342
END:VEVENT
END:VCALENDAR
