BEGIN:VCALENDAR
PRODID:-//eluceo/ical//2.0/EN
VERSION:2.0
CALSCALE:GREGORIAN
BEGIN:VEVENT
UID:a597173ca40478354c0b66cbf84f07a7
DTSTAMP:20260424T035302Z
SUMMARY:«We The Power – Die Energieversorgung liegt in Bürgerhand»: Fi
 lmvorführung und konkrete Handlungsoptionen
DESCRIPTION:Die SSES-Regionalgruppe Zentralschweiz lädt am 14.12.21 gemein
 sam mit\nPatagonia und dem WWF Luzern zum Filmerlebnis in Luzern ein. Im\n
 Anschluss werden konkrete Handlungsoptionen aufgezeigt\, wie jede:r an\nde
 r Energiewende teilnehmen kann.\n
DTSTART:20211214T170000Z
DTEND:20211214T190000Z
LOCATION:Löwenplatz 11\, 6004 Luzern
GEO:47.056935;8.311267
X-APPLE-STRUCTURED-LOCATION;VALUE=URI;X-ADDRESS=Löwenplatz 11\, 6004 Luzer
 n;X-APPLE-RADIUS=49;X-TITLE=:geo:47.056935,8.311267
END:VEVENT
END:VCALENDAR
