BEGIN:VCALENDAR
PRODID:-//eluceo/ical//2.0/EN
VERSION:2.0
CALSCALE:GREGORIAN
BEGIN:VEVENT
UID:90148c0d6e209baf5e0bbe1946717218
DTSTAMP:20260424T035337Z
SUMMARY:Olivensterben in Süditalien - Film und Diskussion
DESCRIPTION:Der Dokumentarfilm C’ERA UNA VOLTA L’ALBERO des Schweizer\n
 Regisseurs René Worni beleuchtet das markante Olivenbaumsterben im\nSüde
 n Italiens. Anschliessend Diskussion mit dem Regisseur\, zusammen\nmit der
  Obstbau-Expertin Isabel Mühlenz.\n
DTSTART:20211111T180000Z
DTEND:20211111T203000Z
LOCATION:Löwenplatz 11\, 6004 Luzern
GEO:47.056935;8.311267
X-APPLE-STRUCTURED-LOCATION;VALUE=URI;X-ADDRESS=Löwenplatz 11\, 6004 Luzer
 n;X-APPLE-RADIUS=49;X-TITLE=:geo:47.056935,8.311267
END:VEVENT
END:VCALENDAR
