BEGIN:VCALENDAR
PRODID:-//eluceo/ical//2.0/EN
VERSION:2.0
CALSCALE:GREGORIAN
BEGIN:VEVENT
UID:8279e415404d5836cc07cddb6b505806
DTSTAMP:20260424T181747Z
SUMMARY:Pflanzenfestival Botanica Luzern  
DESCRIPTION:Am Pflanzenfestival Botanica Luzern können Pflanzen mit allen 
 Sinnen\nerlebt werden.\n
DTSTART:20211023T090000Z
DTEND:20211023T150000Z
LOCATION:Bireggstrasse 36\, 6003 Luzern
GEO:47.041412;8.307136
X-APPLE-STRUCTURED-LOCATION;VALUE=URI;X-ADDRESS=Bireggstrasse 36\, 6003 Luz
 ern;X-APPLE-RADIUS=49;X-TITLE=:geo:47.041412,8.307136
END:VEVENT
END:VCALENDAR
