BEGIN:VCALENDAR
PRODID:-//eluceo/ical//2.0/EN
VERSION:2.0
CALSCALE:GREGORIAN
BEGIN:VEVENT
UID:393bb985ddd46a9a99bafc604c98eb4e
DTSTAMP:20260422T053539Z
SUMMARY:Führung durch den Kapuzinergarten zum Thema der „SchöpfungsZeit
 “
DESCRIPTION:Br. Paul Mathis lädt dazu ein\, über das Wasser als Quelle de
 s Lebens\nnachzudenken. Wir erkunden\, wo die Lebensströme in Bäumen und
  im\nBoden des Klostergartens fliessen und wo sie infolge des Klimawandels
 \nund der Wetterextreme versiegen.\n
DTSTART:20210929T120000Z
DTEND:20210929T140000Z
LOCATION:Wesemlinstrasse 42\, 6006 Luzern
GEO:47.061598;8.313342
X-APPLE-STRUCTURED-LOCATION;VALUE=URI;X-ADDRESS=Wesemlinstrasse 42\, 6006 L
 uzern;X-APPLE-RADIUS=49;X-TITLE=:geo:47.061598,8.313342
END:VEVENT
END:VCALENDAR
