BEGIN:VCALENDAR
PRODID:-//eluceo/ical//2.0/EN
VERSION:2.0
CALSCALE:GREGORIAN
BEGIN:VEVENT
UID:c29e61f2dbb0aa090a5f62007bba1afa
DTSTAMP:20260422T053025Z
SUMMARY:Buttisholzer Klimatag
DESCRIPTION:Am Klimatag in Buttisholz laufen spannende Anlässe für alle -
  zum\nMitmachen und Nachdenken. Energie\, Biodiversität\, Mobilität\,\nK
 leidertausch und weitere Themen bieten Anregungen.\n
DTSTART:20210925T080000Z
DTEND:20210925T140000Z
LOCATION:Schulhausstrasse 3\, 6018 Buttisholz
GEO:47.114909;8.093486
X-APPLE-STRUCTURED-LOCATION;VALUE=URI;X-ADDRESS=Schulhausstrasse 3\, 6018 B
 uttisholz;X-APPLE-RADIUS=49;X-TITLE=:geo:47.114909,8.093486
END:VEVENT
END:VCALENDAR
