BEGIN:VCALENDAR
PRODID:-//eluceo/ical//2.0/EN
VERSION:2.0
CALSCALE:GREGORIAN
BEGIN:VEVENT
UID:778e9f0976155c71607069b831c57054
DTSTAMP:20260424T050037Z
SUMMARY:Essbare Wildpflanzen im Dreilindenpark
DTSTART:20210930T150000Z
DTEND:20210930T170000Z
LOCATION:Dreilindenpark\, 6000 Luzern
GEO:47.061486;8.322024
X-APPLE-STRUCTURED-LOCATION;VALUE=URI;X-ADDRESS=Dreilindenpark\, 6000 Luzer
 n;X-APPLE-RADIUS=49;X-TITLE=:geo:47.061486,8.322024
END:VEVENT
END:VCALENDAR
