BEGIN:VCALENDAR
PRODID:-//eluceo/ical//2.0/EN
VERSION:2.0
CALSCALE:GREGORIAN
BEGIN:VEVENT
UID:b6f130886c2e3218837ab2a630433f36
DTSTAMP:20260422T071739Z
SUMMARY:Essbare Wildpflanzen vom Sentitreff zum Kulturhof Hinter-Musegg
DTSTART:20210920T160000Z
DTEND:20210920T180000Z
LOCATION:Sentitreff\, 6000 Luzern
GEO:47.051842;8.297345
X-APPLE-STRUCTURED-LOCATION;VALUE=URI;X-ADDRESS=Sentitreff\, 6000 Luzern;X-
 APPLE-RADIUS=49;X-TITLE=:geo:47.051842,8.297345
END:VEVENT
END:VCALENDAR
