BEGIN:VCALENDAR
PRODID:-//eluceo/ical//2.0/EN
VERSION:2.0
CALSCALE:GREGORIAN
BEGIN:VEVENT
UID:11ea61fdc8168eb48bf5a667fbf02263
DTSTAMP:20260422T071923Z
SUMMARY:Exkursion ins Seetal für Kurzentschlossene
DESCRIPTION:Unter fachlicher Führung wandern wir zwischen den beiden Seen 
 entlang\ndes Aabachs. Dabei bekommen wir Einblick in die Ökologie des\nFl
 iessgewässers\, dessen Revitalisierung\, Massnahmen zur\nFischgängigkeit
  und hören von den Herausforderungen.\n
DTSTART:20210904T070000Z
DTEND:20210904T100000Z
LOCATION:Mühlestrasse 4\, 6294 Ermensee
GEO:47.227867;8.242638
X-APPLE-STRUCTURED-LOCATION;VALUE=URI;X-ADDRESS=Mühlestrasse 4\, 6294 Erme
 nsee;X-APPLE-RADIUS=49;X-TITLE=:geo:47.227867,8.242638
END:VEVENT
END:VCALENDAR
