BEGIN:VCALENDAR
PRODID:-//eluceo/ical//2.0/EN
VERSION:2.0
CALSCALE:GREGORIAN
BEGIN:VEVENT
UID:419a8fef3705dce70a4489ffcc4cd843
DTSTAMP:20260422T052734Z
SUMMARY:Gesund durchs Leben
DESCRIPTION:Den eigenen Seelenweg erforschen und entwickeln ist das eigentl
 iche\nZiel unseres Lebens.\n\nRuth Schönenberger aus Luzern experimentier
 t seit 1982 zur Frage:\nWie kann ich gesund durchs Leben kommen?\n\nSie gi
 bt ihr Erfahrungswissen herzlich weiter.\n
DTSTART:20210926T110000Z
DTEND:20210926T160000Z
LOCATION:Längwil \, 6182 Escholzmatt
GEO:46.901036;7.941249
X-APPLE-STRUCTURED-LOCATION;VALUE=URI;X-ADDRESS=Längwil \, 6182 Escholzmat
 t;X-APPLE-RADIUS=49;X-TITLE=:geo:46.901036,7.941249
END:VEVENT
END:VCALENDAR
