BEGIN:VCALENDAR
PRODID:-//eluceo/ical//2.0/EN
VERSION:2.0
CALSCALE:GREGORIAN
BEGIN:VEVENT
UID:73f2f995e8dc4ce9706e5df017903f58
DTSTAMP:20260424T055007Z
SUMMARY:Geführte Betriebsbesichtigung auf Bio Hof in Wiggen
DESCRIPTION:Geführte Betriebsbesichtigung auf Bio Hof in Wiggen. Ich baue 
 Gemüse\nund Beeren an. Zudem halte ich Mutterkühe und Ziegen. Ich vermar
 kte\nalle Produkte ab Hof. Vor oder nach der Führung kann im Hofladen\nei
 ngekauft werden.\n
DTSTART:20210903T173000Z
DTEND:20210903T183000Z
LOCATION:Wiggengut 10\, 6192 Wiggen
GEO:46.894753;7.911604
X-APPLE-STRUCTURED-LOCATION;VALUE=URI;X-ADDRESS=Wiggengut 10\, 6192 Wiggen;
 X-APPLE-RADIUS=49;X-TITLE=:geo:46.894753,7.911604
END:VEVENT
END:VCALENDAR
