BEGIN:VCALENDAR
PRODID:-//eluceo/ical//2.0/EN
VERSION:2.0
CALSCALE:GREGORIAN
BEGIN:VEVENT
UID:f50a61da4e1906c00d22c5c85fda6fdd
DTSTAMP:20260422T071317Z
SUMMARY:Kinderkochkurs
DESCRIPTION:Für Kochkünstler*innen ab 6 Jahren.\n\nHast du Freude am Koch
 en? Wir auch. Wir kochen zusammen ein feines\,\ngesundes Kindermenü aus s
 aisonalen Zutaten. Anschliessend wird\nschnabuliert.\n
DTSTART:20210918T070000Z
DTEND:20210918T120000Z
LOCATION:Im Zentrum 20\, 6043 Adligenswil
GEO:47.072597;8.362643
X-APPLE-STRUCTURED-LOCATION;VALUE=URI;X-ADDRESS=Im Zentrum 20\, 6043 Adlige
 nswil;X-APPLE-RADIUS=49;X-TITLE=:geo:47.072597,8.362643
END:VEVENT
END:VCALENDAR
