BEGIN:VCALENDAR
PRODID:-//eluceo/ical//2.0/EN
VERSION:2.0
CALSCALE:GREGORIAN
BEGIN:VEVENT
UID:dbdfec4cb1f8bcaad496a85cbf79ecab
DTSTAMP:20260419T203206Z
SUMMARY:Essen für Alle
DESCRIPTION:Gemeinsam kochen\, geniessen und austauschen.\n
DTSTART:20210908T170000Z
DTEND:20210908T190000Z
LOCATION:Moosmattstrasse 10\, 6005 Luzern
GEO:47.041327;8.303158
X-APPLE-STRUCTURED-LOCATION;VALUE=URI;X-ADDRESS=Moosmattstrasse 10\, 6005 L
 uzern;X-APPLE-RADIUS=49;X-TITLE=:geo:47.041327,8.303158
END:VEVENT
END:VCALENDAR
