BEGIN:VCALENDAR
PRODID:-//eluceo/ical//2.0/EN
VERSION:2.0
CALSCALE:GREGORIAN
BEGIN:VEVENT
UID:1acb78495a40772bde45cd2fa98f9487
DTSTAMP:20260424T055113Z
SUMMARY:Hoffnung durch Handeln
DTSTART;VALUE=DATE:20211002
DTEND;VALUE=DATE:20211009
LOCATION:Hubel 2\, 6073 Sachseln
GEO:46.874318;8.268336
X-APPLE-STRUCTURED-LOCATION;VALUE=URI;X-ADDRESS=Hubel 2\, 6073 Sachseln;X-A
 PPLE-RADIUS=49;X-TITLE=:geo:46.874318,8.268336
END:VEVENT
END:VCALENDAR
