BEGIN:VCALENDAR
PRODID:-//eluceo/ical//2.0/EN
VERSION:2.0
CALSCALE:GREGORIAN
BEGIN:VEVENT
UID:cacdfd0adf5203ab932fceaa99cfaed0
DTSTAMP:20260422T071858Z
SUMMARY:Kraftort und Wildkräuterwanderung
DTSTART:20210919T080000Z
DTEND:20210919T150000Z
LOCATION:
GEO:47.062440;8.522731
X-APPLE-STRUCTURED-LOCATION;VALUE=URI;X-ADDRESS=;X-APPLE-RADIUS=49;X-TITLE=
 :geo:47.062440,8.522731
END:VEVENT
END:VCALENDAR
