BEGIN:VCALENDAR
PRODID:-//eluceo/ical//2.0/EN
VERSION:2.0
CALSCALE:GREGORIAN
BEGIN:VEVENT
UID:fa35b9256744716a6b490e29db768f93
DTSTAMP:20260422T071740Z
SUMMARY:Klein\, aber oho – Der Bachflohkrebs
DESCRIPTION:Stimmt etwas mit der Wasserqualität eines Gewässers nicht\, f
 ehlt\nauch der Bachflohkrebs. Dies ist ein Grund dafür\, dass er von Pro\
 nNatura als Tier des Jahres bestimmt wurde. Erfahren Sie mehr über das\ns
 pannende Leben dieses Winzlings.\n
DTSTART:20210914T163000Z
DTEND:20210914T173000Z
LOCATION:Obernauerstrasse 1\, 6010 Kriens
GEO:47.034106;8.275900
X-APPLE-STRUCTURED-LOCATION;VALUE=URI;X-ADDRESS=Obernauerstrasse 1\, 6010 K
 riens;X-APPLE-RADIUS=49;X-TITLE=:geo:47.034106,8.275900
END:VEVENT
END:VCALENDAR
