BEGIN:VCALENDAR
PRODID:-//eluceo/ical//2.0/EN
VERSION:2.0
CALSCALE:GREGORIAN
BEGIN:VEVENT
UID:c132e09c75ccd83e3b38c9e94929cac4
DTSTAMP:20260422T072029Z
SUMMARY:Velobörse Pro Velo
DESCRIPTION:Am Samstag\, 11. September 2021 findet die Velobörse am Nation
 alquai\nin Luzern statt. Nicht mehr benötigte Velos\, Kindervelos oder\nA
 nhänger können von 8.30 bis 11.30 abgegeben werden. Pro Person\ndürfen 
 maximal 4 Velos zum Verkauf angeboten werden.\n
DTSTART:20210911T110000Z
DTEND:20210911T140000Z
LOCATION:
GEO:47.050168;8.309307
X-APPLE-STRUCTURED-LOCATION;VALUE=URI;X-ADDRESS=;X-APPLE-RADIUS=49;X-TITLE=
 :geo:47.050168,8.309307
END:VEVENT
END:VCALENDAR
