BEGIN:VCALENDAR
PRODID:-//eluceo/ical//2.0/EN
VERSION:2.0
CALSCALE:GREGORIAN
BEGIN:VEVENT
UID:ef4bbf3d95fec7a6a438c10dc3779851
DTSTAMP:20260422T071739Z
SUMMARY:Online-KlimaGespräche: Bring dein Leben auf Klimakurs
DESCRIPTION:Die KlimaGespräche unterstützen dich dabei. An sechs Abenden 
 schaust\ndu dir dein Verhalten in Bezug auf Wohnen\, Mobilität\, Essen un
 d\nKonsum an und suchst gemeinsam mit anderen nach Schritten hin zu einem\
 nklimafreundlichen Leben.\n
DTSTART:20210915T173000Z
DTEND:20210915T190000Z
END:VEVENT
END:VCALENDAR
