BEGIN:VCALENDAR
PRODID:-//eluceo/ical//2.0/EN
VERSION:2.0
CALSCALE:GREGORIAN
BEGIN:VEVENT
UID:b9c299fa42dc733ff801dcff98b55fb8
DTSTAMP:20260420T031950Z
SUMMARY:KlimaGespräche Online für junge Erwachsene (18-35 j.)
DESCRIPTION:Die KlimaGespräche unterstützen dich dabei. An sechs Abenden 
 schaust\ndu dir dein Verhalten in Bezug auf Wohnen\, Mobilität\, Essen un
 d\nKonsum an und suchst gemeinsam mit anderen nach Schritten hin zu einem\
 nklimafreundlichen Leben.\n
DTSTART:20211005T170000Z
DTEND:20211005T190000Z
END:VEVENT
END:VCALENDAR
