BEGIN:VCALENDAR
PRODID:-//eluceo/ical//2.0/EN
VERSION:2.0
CALSCALE:GREGORIAN
BEGIN:VEVENT
UID:10e9c1fa22aa42159c8276f6dd0fd30c
DTSTAMP:20260422T072029Z
SUMMARY:Mit Männern tiefenökologisch unterwegs
DESCRIPTION:Männer wandern gemeinsam\, begrüssen die Sonne\, den Morgen u
 nd setzen\nsich auf der Erde zu einem selbst mitgebrachten Brunch zusammen
 .\n
DTSTART:20210905T034500Z
DTEND:20210905T080000Z
LOCATION:Permakulturhof Chuderboden\, 6102 Malters
GEO:47.047224;8.139263
X-APPLE-STRUCTURED-LOCATION;VALUE=URI;X-ADDRESS=Permakulturhof Chuderboden\
 , 6102 Malters;X-APPLE-RADIUS=49;X-TITLE=:geo:47.047224,8.139263
END:VEVENT
END:VCALENDAR
