BEGIN:VCALENDAR
PRODID:-//eluceo/ical//2.0/EN
VERSION:2.0
CALSCALE:GREGORIAN
BEGIN:VEVENT
UID:c5ce43133110a22030246d21484723c0
DTSTAMP:20260422T071713Z
SUMMARY:Welche Nahrung tut „mir“ gut?
DESCRIPTION:Unzählige Informationen über Ernährung können uns verwirren
 . Was\,\nwenn unser Körper genau wüsste\, was er braucht?\n
DTSTART:20210907T160000Z
DTEND:20210929T180000Z
LOCATION:Klosterstrasse 5\, 6004 Luzern
GEO:47.049579;8.301385
X-APPLE-STRUCTURED-LOCATION;VALUE=URI;X-ADDRESS=Klosterstrasse 5\, 6004 Luz
 ern;X-APPLE-RADIUS=49;X-TITLE=:geo:47.049579,8.301385
END:VEVENT
END:VCALENDAR
