BEGIN:VCALENDAR
PRODID:-//eluceo/ical//2.0/EN
VERSION:2.0
CALSCALE:GREGORIAN
BEGIN:VEVENT
UID:2f58e504dac117142bc1623c3ca81a15
DTSTAMP:20260422T072044Z
SUMMARY:Entdecke den Genuss der Wildkräuterküche - Kochkurs
DTSTART:20210909T153000Z
DTEND:20210909T193000Z
LOCATION:Spelteriniweg 4\, 6005 Luzern
GEO:47.042530;8.319264
X-APPLE-STRUCTURED-LOCATION;VALUE=URI;X-ADDRESS=Spelteriniweg 4\, 6005 Luze
 rn;X-APPLE-RADIUS=49;X-TITLE=:geo:47.042530,8.319264
END:VEVENT
END:VCALENDAR
