BEGIN:VCALENDAR
PRODID:-//eluceo/ical//2.0/EN
VERSION:2.0
CALSCALE:GREGORIAN
BEGIN:VEVENT
UID:d02349a337d22746390f26013c3599eb
DTSTAMP:20260422T071317Z
SUMMARY:Wildfrüchte - Erntezeit
DTSTART:20210913T160000Z
DTEND:20210913T180000Z
LOCATION:Untergrundhof 20\, 6032 Emmen
GEO:47.080900;8.308279
X-APPLE-STRUCTURED-LOCATION;VALUE=URI;X-ADDRESS=Untergrundhof 20\, 6032 Emm
 en;X-APPLE-RADIUS=49;X-TITLE=:geo:47.080900,8.308279
END:VEVENT
END:VCALENDAR
