BEGIN:VCALENDAR
PRODID:-//eluceo/ical//2.0/EN
VERSION:2.0
CALSCALE:GREGORIAN
BEGIN:VEVENT
UID:8270a1c4deebf6e7ba49b56255390459
DTSTAMP:20260422T071858Z
SUMMARY:Die Brennnessel - eine wahre Königin
DESCRIPTION:Oft verkannt und verhasst besuchen wir die Brennnessel in Garte
 n\, Feld\nund Wald. Wir widmen uns ihren sagenhaften Qualitäten. Sie ist 
 eine\nwertvolle Nahrungs-\, Heil- & Textilpflanze.\n
DTSTART:20210906T160000Z
DTEND:20210906T180000Z
LOCATION:Untergrundhof 22\, 6032 Emmen
GEO:47.080882;8.308800
X-APPLE-STRUCTURED-LOCATION;VALUE=URI;X-ADDRESS=Untergrundhof 22\, 6032 Emm
 en;X-APPLE-RADIUS=49;X-TITLE=:geo:47.080882,8.308800
END:VEVENT
END:VCALENDAR
