BEGIN:VCALENDAR
PRODID:-//eluceo/ical//2.0/EN
VERSION:2.0
CALSCALE:GREGORIAN
BEGIN:VEVENT
UID:7f2fd0d95e00483ef730db30f68a17e2
DTSTAMP:20260422T071913Z
SUMMARY:Dynamischer Agroforst -landwirtschaftliche Produktionssysteme
DESCRIPTION:Dynamischer Agroforst - Vortrag Dr. Noemi Stadler Kaulich\, Ape
 ro &\nExkursion\n
DTSTART:20210911T090000Z
DTEND:20210911T140000Z
LOCATION:Neuöggenringen 2\, 6274 Eschenbach
GEO:47.140630;8.300410
X-APPLE-STRUCTURED-LOCATION;VALUE=URI;X-ADDRESS=Neuöggenringen 2\, 6274 Es
 chenbach;X-APPLE-RADIUS=49;X-TITLE=:geo:47.140630,8.300410
END:VEVENT
END:VCALENDAR
