BEGIN:VCALENDAR
PRODID:-//eluceo/ical//2.0/EN
VERSION:2.0
CALSCALE:GREGORIAN
BEGIN:VEVENT
UID:0a6d8319f44996e634e2b6da0e1cc823
DTSTAMP:20260422T071912Z
SUMMARY:Vegetarisches Apero durch Migrantinnen bereitet
DESCRIPTION:Anlässliches seines 15 Jahre Jubiläums bereiten Menschen mit\
 nMigrationshintergrund im Yogastudio Luzern ein vegetarisches Apero\nvor. 
 Du bist herzlich zu diesem feinen Apéro eingeladen\, Kollekte\n
DTSTART:20210919T130000Z
DTEND:20210919T170000Z
LOCATION:Werkhofstr. 18\, 6005 Luzern
GEO:47.044598;8.314966
X-APPLE-STRUCTURED-LOCATION;VALUE=URI;X-ADDRESS=Werkhofstr. 18\, 6005 Luzer
 n;X-APPLE-RADIUS=49;X-TITLE=:geo:47.044598,8.314966
END:VEVENT
END:VCALENDAR
