BEGIN:VCALENDAR
PRODID:-//eluceo/ical//2.0/EN
VERSION:2.0
CALSCALE:GREGORIAN
BEGIN:VEVENT
UID:9115fa2925116c0829f28698dca5f48a
DTSTAMP:20260422T071923Z
SUMMARY:Anders Essen - Ein Dokumentarfilm von Kurt Langbein und Andrea Erns
 t
DESCRIPTION:Bio Luzern und der Kulturhof Hinter Musegg laden zum Denken\,\n
 Diskutieren und Geniessen ein.\n
DTSTART:20210909T170000Z
DTEND:20210909T210000Z
LOCATION:Hintermusegg\, 6004 Luzern
GEO:47.054597;8.302977
X-APPLE-STRUCTURED-LOCATION;VALUE=URI;X-ADDRESS=Hintermusegg\, 6004 Luzern;
 X-APPLE-RADIUS=49;X-TITLE=:geo:47.054597,8.302977
END:VEVENT
END:VCALENDAR
