BEGIN:VCALENDAR
PRODID:-//eluceo/ical//2.0/EN
VERSION:2.0
CALSCALE:GREGORIAN
BEGIN:VEVENT
UID:7ad28283878e7992f9e4b933ca1539f5
DTSTAMP:20260422T071859Z
SUMMARY:Gmüeschorb - ein Modell der Vertragslandwirtschaft
DESCRIPTION:Tierhaltung und Pflanzenbau im Gleichgewicht\nUnd es braucht me
 hr davon…\n
DTSTART:20210918T113000Z
DTEND:20210918T150000Z
END:VEVENT
END:VCALENDAR
