BEGIN:VCALENDAR
PRODID:-//eluceo/ical//2.0/EN
VERSION:2.0
CALSCALE:GREGORIAN
BEGIN:VEVENT
UID:8722049caea9cbe7824bc78b9bcaf13a
DTSTAMP:20260424T055513Z
SUMMARY:Pilzkontrolle der Stadt Luzern
DESCRIPTION:Pilzkontrolleur*innen kontrollieren die mitgebrachten Pilze und
  geben\nvielseitige Auskünfte.\n
DTSTART:20210823T150000Z
DTEND:20210823T163000Z
LOCATION:Kasernenplatz 6\, 6003 Luzern
GEO:47.051635;8.300946
X-APPLE-STRUCTURED-LOCATION;VALUE=URI;X-ADDRESS=Kasernenplatz 6\, 6003 Luze
 rn;X-APPLE-RADIUS=49;X-TITLE=:geo:47.051635,8.300946
END:VEVENT
END:VCALENDAR
