BEGIN:VCALENDAR
PRODID:-//eluceo/ical//2.0/EN
VERSION:2.0
CALSCALE:GREGORIAN
BEGIN:VEVENT
UID:db4b082473f13d338eafab79a96dc703
DTSTAMP:20260422T071139Z
SUMMARY:Genussreise im Obst & Gemüsegarten
DESCRIPTION:Lass dich verführen auf einer Reise durch den Permakulturhof\,
  mit\nmusikalischer Begleitung und anschliessendem Apéro aus Wildkräuter
 \nund Produkte vom Hof.\n
DTSTART:20210905T083000Z
DTEND:20210905T120000Z
LOCATION:Chuderboden\, 6102 Malters
GEO:47.047202;8.139261
X-APPLE-STRUCTURED-LOCATION;VALUE=URI;X-ADDRESS=Chuderboden\, 6102 Malters;
 X-APPLE-RADIUS=49;X-TITLE=:geo:47.047202,8.139261
END:VEVENT
END:VCALENDAR
