BEGIN:VCALENDAR
PRODID:-//eluceo/ical//2.0/EN
VERSION:2.0
CALSCALE:GREGORIAN
BEGIN:VEVENT
UID:767ee64b4b876a88bfac1c233d128c22
DTSTAMP:20260422T052905Z
SUMMARY:Foodcoop Tante Emmen 
DESCRIPTION:Damit du siehst\, wie eine Foodcoop funktionieren kann\, was es
  dafür\nbraucht und wieviel Sinn und Spass das macht\, kannst du dir vor 
 Ort\nein Bild machen und gerade mitanpacken.\n
DTSTART:20210925T080000Z
DTEND:20210925T100000Z
LOCATION:Siedlung Untergrundhof\, 6032 Emmen
GEO:47.080900;8.308279
X-APPLE-STRUCTURED-LOCATION;VALUE=URI;X-ADDRESS=Siedlung Untergrundhof\, 60
 32 Emmen;X-APPLE-RADIUS=49;X-TITLE=:geo:47.080900,8.308279
END:VEVENT
END:VCALENDAR
