BEGIN:VCALENDAR
PRODID:-//eluceo/ical//2.0/EN
VERSION:2.0
CALSCALE:GREGORIAN
BEGIN:VEVENT
UID:af1633785693da3e0fd3a05913c27735
DTSTAMP:20260424T055552Z
SUMMARY:Kurs "Gärten gestalten für vielfältiges Leben"
DESCRIPTION:Ein Kurs für Menschen\, die in ihrem Garten neben gepflegten B
 ereichen\nauch etwas mehr "Wildnis" zulassen möchten. Nach Hintergrund-In
 fos\nund einer Gartenexkursion werden gemeinsam Ideen für den eigenen\nGa
 rten entwickelt.\n
DTSTART:20210817T170000Z
DTEND:20210817T190000Z
END:VEVENT
END:VCALENDAR
