BEGIN:VCALENDAR
PRODID:-//eluceo/ical//2.0/EN
VERSION:2.0
CALSCALE:GREGORIAN
BEGIN:VEVENT
UID:37a75d049435e06b5bd344bd0a5146c5
DTSTAMP:20260422T072030Z
SUMMARY:Pflanzen bestimmen und auf dem Feuer kochen
DESCRIPTION:Wildkräuter als Lebens und Heilmittel kennenlernen. Die Natur 
 bietet\nuns alles\, was wir für unser Wohlbefinden brauchen. Es ist an de
 r\nZeit\, sich daran zu erinnern und die Pflanzen direkt vor der Haustür\
 ,\ndem Wald\, der Wiese zu nutzen.\n
DTSTART:20210912T073000Z
DTEND:20210912T143000Z
LOCATION:Bruderklauskirche\, 6019 Sigigen
GEO:47.063278;8.135018
X-APPLE-STRUCTURED-LOCATION;VALUE=URI;X-ADDRESS=Bruderklauskirche\, 6019 Si
 gigen;X-APPLE-RADIUS=49;X-TITLE=:geo:47.063278,8.135018
END:VEVENT
END:VCALENDAR
