BEGIN:VCALENDAR
PRODID:-//eluceo/ical//2.0/EN
VERSION:2.0
CALSCALE:GREGORIAN
BEGIN:VEVENT
UID:ac018c43e28561beb3b3f9b247803987
DTSTAMP:20260422T034650Z
SUMMARY:Ausgebucht: Haus ohne Heizung
DESCRIPTION:Häuser benötigen nicht zwingend eine Heizung und können soga
 r CO2\nbinden. Dank guter Wärmedämmung\, hoher Speichermasse und\nausgew
 ählter Materialien kann auf Hightech nahezu verzichtet werden.\n
DTSTART:20211216T170000Z
DTEND:20211216T190000Z
LOCATION:Emmenweidstrasse 58A\, 6020 Emmen
GEO:47.073612;8.273987
X-APPLE-STRUCTURED-LOCATION;VALUE=URI;X-ADDRESS=Emmenweidstrasse 58A\, 6020
  Emmen;X-APPLE-RADIUS=49;X-TITLE=:geo:47.073612,8.273987
END:VEVENT
END:VCALENDAR
