BEGIN:VCALENDAR
PRODID:-//eluceo/ical//2.0/EN
VERSION:2.0
CALSCALE:GREGORIAN
BEGIN:VEVENT
UID:48272d2a6d77708cd839a5d032ba8375
DTSTAMP:20260424T055656Z
SUMMARY:AUSGEBUCHT: Auf den Spuren der Biber am Rotsee
DESCRIPTION:Seit einiger Zeit sind am Rotsee wieder Biber wohnhaft. Obwohl 
 die\nnachtaktiven Tiere nur selten gesehen werden\, machen sie sich durch\
 nimposante Nagespuren bemerkbar. Auf der Spurensuche\nerfahren wir Spannen
 des über die Lebensweise dieses Tiers.\n
DTSTART:20211120T130000Z
DTEND:20211120T150000Z
LOCATION:Rotsee\, Restaurant Seehüsli\, Seehüsliweg 6\, 6004 Luzern
GEO:47.063059;8.298861
X-APPLE-STRUCTURED-LOCATION;VALUE=URI;X-ADDRESS=Rotsee\, Restaurant Seehüs
 li\, Seehüsliweg 6\, 6004 Luzern;X-APPLE-RADIUS=49;X-TITLE=:geo:47.063059
 ,8.298861
END:VEVENT
END:VCALENDAR
