BEGIN:VCALENDAR
PRODID:-//eluceo/ical//2.0/EN
VERSION:2.0
CALSCALE:GREGORIAN
BEGIN:VEVENT
UID:fd73a594796c690858a04a05f72c3fac
DTSTAMP:20260424T055714Z
SUMMARY:AUSGEBUCHT: Das Leben der Stadttauben
DESCRIPTION:Wo brüten eigentlich Tauben? Wie sehen die Jungen aus? Und was
  hat es\nmit der Brieftaubenpost auf sich? Dieser Anlass widmet sich dem L
 eben\nunserer Stadttauben.\n
DTSTART:20211103T130000Z
DTEND:20211103T150000Z
LOCATION:Rathaus am Kornmarkt\, Luzern\, 6004 Luzern
GEO:47.051964;8.306093
X-APPLE-STRUCTURED-LOCATION;VALUE=URI;X-ADDRESS=Rathaus am Kornmarkt\, Luze
 rn\, 6004 Luzern;X-APPLE-RADIUS=49;X-TITLE=:geo:47.051964,8.306093
END:VEVENT
END:VCALENDAR
