BEGIN:VCALENDAR
PRODID:-//eluceo/ical//2.0/EN
VERSION:2.0
CALSCALE:GREGORIAN
BEGIN:VEVENT
UID:1365c8db74e9c265bf4de9182539b145
DTSTAMP:20260422T071912Z
SUMMARY:Ernährungsdemokratie - Wie entscheiden wir\, was auf unserem Telle
 r landet?
DESCRIPTION:Neue Wirklichkeiten/Möglichkeiten/Dimensionen der lokalen\nLeb
 ensmittelbeschaffung und Vermarktung - wir wollen neue sowie\nbereits vorh
 andene Modelle vorstellen\n\nModeration: Martina Brun (Ernährungsrat Luze
 rn)\n
DTSTART:20210913T170000Z
DTEND:20210913T183000Z
LOCATION:Peterskapelle\, Kapellplatz 1a\, 6004 Luzern
GEO:47.052541;8.307938
X-APPLE-STRUCTURED-LOCATION;VALUE=URI;X-ADDRESS=Peterskapelle\, Kapellplatz
  1a\, 6004 Luzern;X-APPLE-RADIUS=49;X-TITLE=:geo:47.052541,8.307938
END:VEVENT
END:VCALENDAR
