BEGIN:VCALENDAR
PRODID:-//eluceo/ical//2.0/EN
VERSION:2.0
CALSCALE:GREGORIAN
BEGIN:VEVENT
UID:f88b5c4ae257ff0b4cf51e74d49e1c6e
DTSTAMP:20260422T052823Z
SUMMARY:Wasser 4 - Welche Systeme zur Aufbereitung machen Sinn?
DESCRIPTION:Die vierteilige Vortragsreihe vermittelt aktuelles Wissen zum Z
 ustand\nunseres Lebensmittels Nr. 1\, den Nutzen für unseren Körper und 
 Geist\nund die Möglichkeiten einer wirkungsvollen und nachhaltigen\nAufbe
 reitung bzw. Aufwertung.\n
DTSTART:20210928T170000Z
DTEND:20210928T183000Z
LOCATION:Rhynauerhof\, Obergrundstrasse 97\, 6005 Luzern\, 6005 Luzern
GEO:47.041177;8.302681
X-APPLE-STRUCTURED-LOCATION;VALUE=URI;X-ADDRESS=Rhynauerhof\, Obergrundstra
 sse 97\, 6005 Luzern\, 6005 Luzern;X-APPLE-RADIUS=49;X-TITLE=:geo:47.04117
 7,8.302681
END:VEVENT
END:VCALENDAR
