BEGIN:VCALENDAR
PRODID:-//eluceo/ical//2.0/EN
VERSION:2.0
CALSCALE:GREGORIAN
BEGIN:VEVENT
UID:a87bfc96e8af8d78c516cbf804b8a3d5
DTSTAMP:20260422T072045Z
SUMMARY:Wasser 1 - Teil einer intakten Natur 
DESCRIPTION:Die vierteilige Vortragsreihe vermittelt aktuelles Wissen zum Z
 ustand\nunseres Lebensmittels Nr. 1\, den Nutzen für unseren Körper und 
 Geist\nund die Möglichkeiten einer wirkungsvollen und nachhaltigen\nAufbe
 reitung bzw. Aufwertung.\n
DTSTART:20210907T170000Z
DTEND:20210907T183000Z
LOCATION:Rhynauerhof\, Obergrundstrasse 97\, 6005 Luzern
GEO:47.041177;8.302681
X-APPLE-STRUCTURED-LOCATION;VALUE=URI;X-ADDRESS=Rhynauerhof\, Obergrundstra
 sse 97\, 6005 Luzern;X-APPLE-RADIUS=49;X-TITLE=:geo:47.041177,8.302681
END:VEVENT
END:VCALENDAR
