BEGIN:VCALENDAR
PRODID:-//eluceo/ical//2.0/EN
VERSION:2.0
CALSCALE:GREGORIAN
BEGIN:VEVENT
UID:8bb088cd42237195354b0b4666e97a05
DTSTAMP:20260424T055907Z
SUMMARY:Wie wir in der Zukunft unsere Nahrungsmittel produzieren
DESCRIPTION:Klimafarming und andere gelingende Beispiele - auch aus dem\nWi
 rkungskreis der Gemeinwohl-Ökonomie:\n\nWir wollen herausschälen\, inwie
 fern wir als Gesellschaft punkto\nErnährungsbewusstsein auf dem Weg sind 
 oder eben nicht.\nModeration: Julia Meade\n
DTSTART:20210929T170000Z
DTEND:20210929T183000Z
LOCATION:Weggismattstrasse 9\, 6004 Luzern
GEO:47.063399;8.308427
X-APPLE-STRUCTURED-LOCATION;VALUE=URI;X-ADDRESS=Weggismattstrasse 9\, 6004 
 Luzern;X-APPLE-RADIUS=49;X-TITLE=:geo:47.063399,8.308427
END:VEVENT
END:VCALENDAR
