BEGIN:VCALENDAR
PRODID:-//eluceo/ical//2.0/EN
VERSION:2.0
CALSCALE:GREGORIAN
BEGIN:VEVENT
UID:4a64e437355e482129079d24aca1fb2b
DTSTAMP:20260422T071858Z
SUMMARY:Umgang mit Ernährung im Alltag: aufmerksame Schritte hin zu einer 
 liebevollen Gesellschaft
DESCRIPTION:Ernährung geht uns Alle an\, wie packen wir dies gemeinsam an?
 \nModeration: Mario Stankovic\nMusikalische Einlagen: Albin Brun\, Luzern\
 n
DTSTART:20210921T170000Z
DTEND:20210921T183000Z
LOCATION:Peterskapelle\, 6004 Luzern
GEO:47.052541;8.307938
X-APPLE-STRUCTURED-LOCATION;VALUE=URI;X-ADDRESS=Peterskapelle\, 6004 Luzern
 ;X-APPLE-RADIUS=49;X-TITLE=:geo:47.052541,8.307938
END:VEVENT
END:VCALENDAR
