BEGIN:VCALENDAR
PRODID:-//eluceo/ical//2.0/EN
VERSION:2.0
CALSCALE:GREGORIAN
BEGIN:VEVENT
UID:cb3171188a2073456abdb344ea7ede1c
DTSTAMP:20260422T052921Z
SUMMARY:Führung Müli Geuensee
DESCRIPTION:Erfahren Sie\, wie nach altem Handwerk aus Getreide Mehl entste
 ht.\nLernen Sie die verschiedenen Arbeitsschritte kennen und lassen Sie\ns
 ich von der alten Technik faszinieren.\n
DTSTART:20210925T113000Z
DTEND:20210925T130000Z
LOCATION:Müli\, 6232 Geuensee
GEO:47.201311;8.110185
X-APPLE-STRUCTURED-LOCATION;VALUE=URI;X-ADDRESS=Müli\, 6232 Geuensee;X-APP
 LE-RADIUS=49;X-TITLE=:geo:47.201311,8.110185
END:VEVENT
END:VCALENDAR
