BEGIN:VCALENDAR
PRODID:-//eluceo/ical//2.0/EN
VERSION:2.0
CALSCALE:GREGORIAN
BEGIN:VEVENT
UID:b172c00ccad54139df5068f754626ccb
DTSTAMP:20260424T055927Z
SUMMARY:Mosten mit stadteigenen Äpfeln
DESCRIPTION:Herbstzeit ist Apfelzeit. Was gibt es Besseres als einen frisch
 \ngepressten\nApfelsaft? In der Stadt Luzern gibt es für die Bevölkerung
 \nöffentlich zugängliche Obstbäume\, an welchen sich Gross und\nKlein b
 edienen können.\n
DTSTART:20210925T070000Z
DTEND:20210925T103000Z
LOCATION:Schulhaus Hubelmatt\, Luzern\, grosser Pausenplatz\, 6005 Luzern
GEO:47.037046;8.307075
X-APPLE-STRUCTURED-LOCATION;VALUE=URI;X-ADDRESS=Schulhaus Hubelmatt\, Luzer
 n\, grosser Pausenplatz\, 6005 Luzern;X-APPLE-RADIUS=49;X-TITLE=:geo:47.03
 7046,8.307075
END:VEVENT
END:VCALENDAR
