BEGIN:VCALENDAR
PRODID:-//eluceo/ical//2.0/EN
VERSION:2.0
CALSCALE:GREGORIAN
BEGIN:VEVENT
UID:13fc37ad82a26a577877af89e89f07b7
DTSTAMP:20260424T055932Z
SUMMARY:Führung durch ein Ebikoner Biotop
DESCRIPTION:Wer kennt das Natur-Schatzkästlein von Ebikon noch nicht? Es h
 andelt\nsich um das Biotop Ebikon der Familie Speiser.\n
DTSTART:20210720T170000Z
DTEND:20210720T190000Z
END:VEVENT
END:VCALENDAR
