BEGIN:VCALENDAR
PRODID:-//eluceo/ical//2.0/EN
VERSION:2.0
CALSCALE:GREGORIAN
BEGIN:VEVENT
UID:ac6475a350dc873cdee051da013de91c
DTSTAMP:20260424T055937Z
SUMMARY:AUSGEBUCHT: Pilzexkursion
DESCRIPTION:Ins Reich der Pilze mit einem erfahrenen Pilzexperten. Ein Tage
 skurs\nim Freien für Naturfreunde ohne Vorkenntnisse sowie für\nFortgesc
 hrittene. Anschliessend: kulinarischer Schlusspunkt mit einer\nfeinen Pilz
 suppe und gemütlichem Zusammensitzen.\n
DTSTART:20211030T070000Z
DTEND:20211030T120000Z
LOCATION:Bahnhof Willisau\, Bahnhofstrasse 1\, 6130 Willisau
GEO:47.122539;7.996829
X-APPLE-STRUCTURED-LOCATION;VALUE=URI;X-ADDRESS=Bahnhof Willisau\, Bahnhofs
 trasse 1\, 6130 Willisau;X-APPLE-RADIUS=49;X-TITLE=:geo:47.122539,7.996829
END:VEVENT
END:VCALENDAR
