BEGIN:VCALENDAR
PRODID:-//eluceo/ical//2.0/EN
VERSION:2.0
CALSCALE:GREGORIAN
BEGIN:VEVENT
UID:a95a52de96d80958e093ad17e618a396
DTSTAMP:20260424T055942Z
SUMMARY:Ausgebucht: Pilzexkursion
DESCRIPTION:Ins Reich der Pilze mit einem erfahrenen Pilzexperten. Ein Tage
 skurs\nim Freien für Naturfreunde ohne Vorkenntnisse sowie für\nFortgesc
 hrittene. Anschliessend: kulinarischer Schlusspunkt mit einer\nfeinen Pilz
 suppe und gemütlichem Zusammensitzen.\n
DTSTART:20211023T070000Z
DTEND:20211023T120000Z
LOCATION:Bahnhof Willisau\, Bahnhofstrasse 1\, 6130 Willisau
GEO:47.122537;7.996809
X-APPLE-STRUCTURED-LOCATION;VALUE=URI;X-ADDRESS=Bahnhof Willisau\, Bahnhofs
 trasse 1\, 6130 Willisau;X-APPLE-RADIUS=49;X-TITLE=:geo:47.122537,7.996809
END:VEVENT
END:VCALENDAR
