BEGIN:VCALENDAR
PRODID:-//eluceo/ical//2.0/EN
VERSION:2.0
CALSCALE:GREGORIAN
BEGIN:VEVENT
UID:908bc8c3ef5cc0ceeada2047a45032c0
DTSTAMP:20260424T055948Z
SUMMARY:6. Schweizer Reparaturtag: Reparieren und Upcyceln
DESCRIPTION:Die gesamte Stadtbibliothek Luzern wird am Reparaturtag zu eine
 r\ngrossen Werkstatt. Den ganzen Tag können Gross und Klein neue und\nalt
 e Techniken ausprobieren und erfahren dadurch\, wie man alte\,\ngebrauchte
  Produkte repariert oder upcycelt.\n
DTSTART:20211016T080000Z
DTEND:20211016T140000Z
LOCATION:Löwenplatz 11\, 6004 Luzern
GEO:47.056870;8.311000
X-APPLE-STRUCTURED-LOCATION;VALUE=URI;X-ADDRESS=Löwenplatz 11\, 6004 Luzer
 n;X-APPLE-RADIUS=49;X-TITLE=:geo:47.056870,8.311000
END:VEVENT
END:VCALENDAR
