BEGIN:VCALENDAR
PRODID:-//eluceo/ical//2.0/EN
VERSION:2.0
CALSCALE:GREGORIAN
BEGIN:VEVENT
UID:8e4e5c8bd63fdd789c70b8bcbbcf5e97
DTSTAMP:20260422T072044Z
SUMMARY:AUSGEBUCHT: "Freie Bahn für Igel & Co." in der Stadt Luzern
DESCRIPTION:Auf dem Abendspaziergang können wir erleben\, wo Igel und weit
 ere\nWildtiere durch das Brambergquartier streifen\, wo sie gute\nLebensr
 äume finden\, welche Durchschlüpfe sie nutzen und wo Mauern\nund Zäune 
 Igelwege behindern.\n
DTSTART:20210923T163000Z
DTEND:20210923T180000Z
LOCATION:Busendhaltestelle Bramberg\, Luzern (vbl-Bus 9)\, 6004 Luzern
GEO:47.057868;8.305936
X-APPLE-STRUCTURED-LOCATION;VALUE=URI;X-ADDRESS=Busendhaltestelle Bramberg\
 , Luzern (vbl-Bus 9)\, 6004 Luzern;X-APPLE-RADIUS=49;X-TITLE=:geo:47.05786
 8,8.305936
END:VEVENT
END:VCALENDAR
