BEGIN:VCALENDAR
PRODID:-//eluceo/ical//2.0/EN
VERSION:2.0
CALSCALE:GREGORIAN
BEGIN:VEVENT
UID:deb42b1e934f486ac87c62913393c654
DTSTAMP:20260422T072030Z
SUMMARY:Bioweingut Sitenrain
DESCRIPTION:Die Weinlese ist im September in vollem Gange. Bei einem Rundga
 ng\ndurch den Rebberg erfahren Sie\, wie die Reben und Anbauflächen\nbiol
 ogisch bewirtschaftet werden und welche Biorichtlinien im Weinbau\ngelten.
  Optional mit Degustation.\n
DTSTART:20210918T120000Z
DTEND:20210918T140000Z
LOCATION:Bushaltestelle Lerchenbühl\, Meggen\, 6045 Meggen
GEO:47.044008;8.357564
X-APPLE-STRUCTURED-LOCATION;VALUE=URI;X-ADDRESS=Bushaltestelle Lerchenbühl
 \, Meggen\, 6045 Meggen;X-APPLE-RADIUS=49;X-TITLE=:geo:47.044008,8.357564
END:VEVENT
END:VCALENDAR
