BEGIN:VCALENDAR
PRODID:-//eluceo/ical//2.0/EN
VERSION:2.0
CALSCALE:GREGORIAN
BEGIN:VEVENT
UID:3eea6d0bac76f47ab9ca273ad94aafac
DTSTAMP:20260422T072102Z
SUMMARY:Dreschtag
DESCRIPTION:Wir sammeln\, ernten und dreschen Saatgut von bewährten\, robu
 sten und\nörtlich angepassten Pflanzen. Im Kurs behandeln wir die Grundla
 gen\nder Saatgutgewinnung von Gemüsepflanzen\, Blumen und Kräutern für\
 nden Hausgebrauch.\n
DTSTART:20210905T113000Z
DTEND:20210905T140000Z
LOCATION:Neugarten\, Bireggstrasse 36\, Luzern\, 6003 Luzern
GEO:47.041522;8.306578
X-APPLE-STRUCTURED-LOCATION;VALUE=URI;X-ADDRESS=Neugarten\, Bireggstrasse 3
 6\, Luzern\, 6003 Luzern;X-APPLE-RADIUS=49;X-TITLE=:geo:47.041522,8.306578
END:VEVENT
END:VCALENDAR
